BEGIN:VCALENDAR
VERSION:2.0
PRODID:-//Fränkischer Marienweg - Willkommen - ECPv6.15.17//NONSGML v1.0//EN
CALSCALE:GREGORIAN
METHOD:PUBLISH
X-ORIGINAL-URL:https://fraenkischer-marienweg.de
X-WR-CALDESC:Veranstaltungen für Fränkischer Marienweg - Willkommen
REFRESH-INTERVAL;VALUE=DURATION:PT1H
X-Robots-Tag:noindex
X-PUBLISHED-TTL:PT1H
BEGIN:VTIMEZONE
TZID:Europe/Berlin
BEGIN:DAYLIGHT
TZOFFSETFROM:+0100
TZOFFSETTO:+0200
TZNAME:CEST
DTSTART:20250330T010000
END:DAYLIGHT
BEGIN:STANDARD
TZOFFSETFROM:+0200
TZOFFSETTO:+0100
TZNAME:CET
DTSTART:20251026T010000
END:STANDARD
BEGIN:DAYLIGHT
TZOFFSETFROM:+0100
TZOFFSETTO:+0200
TZNAME:CEST
DTSTART:20260329T010000
END:DAYLIGHT
BEGIN:STANDARD
TZOFFSETFROM:+0200
TZOFFSETTO:+0100
TZNAME:CET
DTSTART:20261025T010000
END:STANDARD
BEGIN:DAYLIGHT
TZOFFSETFROM:+0100
TZOFFSETTO:+0200
TZNAME:CEST
DTSTART:20270328T010000
END:DAYLIGHT
BEGIN:STANDARD
TZOFFSETFROM:+0200
TZOFFSETTO:+0100
TZNAME:CET
DTSTART:20271031T010000
END:STANDARD
END:VTIMEZONE
BEGIN:VEVENT
DTSTART;VALUE=DATE:20260926
DTEND;VALUE=DATE:20260927
DTSTAMP:20260420T234953
CREATED:20260112T194908Z
LAST-MODIFIED:20260112T194908Z
UID:10000115-1790380800-1790467199@fraenkischer-marienweg.de
SUMMARY:Heinersreuth - Lindenhardt  15 km
DESCRIPTION:Diese Pilgerwanderung wird in Kooperation mit der KLB Bamberg durchgeführt \nBegleitung: Msgr. Josef Treutlein \nKosten:\n8\,00 mit Bustransfer\n3\,00 ohne Bustransfer \nAnmeldung und weitere Informationen:\ninfo@fraenkischer-marienweg.de\n09573-9591105
URL:https://fraenkischer-marienweg.de/event/heinersreuth-lindenhardt-15-km/
END:VEVENT
END:VCALENDAR