BEGIN:VCALENDAR
VERSION:2.0
PRODID:-//Fränkischer Marienweg - Willkommen - ECPv6.15.17//NONSGML v1.0//EN
CALSCALE:GREGORIAN
METHOD:PUBLISH
X-ORIGINAL-URL:https://fraenkischer-marienweg.de
X-WR-CALDESC:Veranstaltungen für Fränkischer Marienweg - Willkommen
REFRESH-INTERVAL;VALUE=DURATION:PT1H
X-Robots-Tag:noindex
X-PUBLISHED-TTL:PT1H
BEGIN:VTIMEZONE
TZID:Europe/Berlin
BEGIN:DAYLIGHT
TZOFFSETFROM:+0100
TZOFFSETTO:+0200
TZNAME:CEST
DTSTART:20250330T010000
END:DAYLIGHT
BEGIN:STANDARD
TZOFFSETFROM:+0200
TZOFFSETTO:+0100
TZNAME:CET
DTSTART:20251026T010000
END:STANDARD
BEGIN:DAYLIGHT
TZOFFSETFROM:+0100
TZOFFSETTO:+0200
TZNAME:CEST
DTSTART:20260329T010000
END:DAYLIGHT
BEGIN:STANDARD
TZOFFSETFROM:+0200
TZOFFSETTO:+0100
TZNAME:CET
DTSTART:20261025T010000
END:STANDARD
BEGIN:DAYLIGHT
TZOFFSETFROM:+0100
TZOFFSETTO:+0200
TZNAME:CEST
DTSTART:20270328T010000
END:DAYLIGHT
BEGIN:STANDARD
TZOFFSETFROM:+0200
TZOFFSETTO:+0100
TZNAME:CET
DTSTART:20271031T010000
END:STANDARD
END:VTIMEZONE
BEGIN:VEVENT
DTSTART;VALUE=DATE:20260711
DTEND;VALUE=DATE:20260712
DTSTAMP:20260420T175611
CREATED:20260112T193722Z
LAST-MODIFIED:20260112T193826Z
UID:10000113-1783728000-1783814399@fraenkischer-marienweg.de
SUMMARY:Hartenstein - Auerbach 20 km
DESCRIPTION:Begleitung: Pfr. Andreas Hornung \nAnmeldung und nähere Infos:\nclaudia.polster@erzbistum-bamberg.de\nTel. 015901051684
URL:https://fraenkischer-marienweg.de/event/hartenstein-auerbach-20-km/
END:VEVENT
END:VCALENDAR