BEGIN:VCALENDAR
VERSION:2.0
PRODID:-//Fränkischer Marienweg - Willkommen - ECPv6.15.17//NONSGML v1.0//EN
CALSCALE:GREGORIAN
METHOD:PUBLISH
X-ORIGINAL-URL:https://fraenkischer-marienweg.de
X-WR-CALDESC:Veranstaltungen für Fränkischer Marienweg - Willkommen
REFRESH-INTERVAL;VALUE=DURATION:PT1H
X-Robots-Tag:noindex
X-PUBLISHED-TTL:PT1H
BEGIN:VTIMEZONE
TZID:Europe/Berlin
BEGIN:DAYLIGHT
TZOFFSETFROM:+0100
TZOFFSETTO:+0200
TZNAME:CEST
DTSTART:20250330T010000
END:DAYLIGHT
BEGIN:STANDARD
TZOFFSETFROM:+0200
TZOFFSETTO:+0100
TZNAME:CET
DTSTART:20251026T010000
END:STANDARD
BEGIN:DAYLIGHT
TZOFFSETFROM:+0100
TZOFFSETTO:+0200
TZNAME:CEST
DTSTART:20260329T010000
END:DAYLIGHT
BEGIN:STANDARD
TZOFFSETFROM:+0200
TZOFFSETTO:+0100
TZNAME:CET
DTSTART:20261025T010000
END:STANDARD
BEGIN:DAYLIGHT
TZOFFSETFROM:+0100
TZOFFSETTO:+0200
TZNAME:CEST
DTSTART:20270328T010000
END:DAYLIGHT
BEGIN:STANDARD
TZOFFSETFROM:+0200
TZOFFSETTO:+0100
TZNAME:CET
DTSTART:20271031T010000
END:STANDARD
END:VTIMEZONE
BEGIN:VEVENT
DTSTART;VALUE=DATE:20260621
DTEND;VALUE=DATE:20260622
DTSTAMP:20260420T145548
CREATED:20260112T193306Z
LAST-MODIFIED:20260112T193335Z
UID:10000112-1782000000-1782086399@fraenkischer-marienweg.de
SUMMARY:ADFC Fahrradwallfahrt  Bad Staffelstein - Bamberger Dom ca. 65 km
DESCRIPTION:Treffpunkt: 8.45 Bahnhof Bad Staffelstein\, Ende gegen 17 Uhr\nUnterwegs Teilnahme am Sonntagsgottesdienst und Besuch einiger ausgewählter Marienkirche \nInformation und Anmeldung (erforderlich)\nDr. Ralph Fischer\, Tel. 09573 – 34248
URL:https://fraenkischer-marienweg.de/event/adfc-fahrradwallfahrt-bad-staffelstein-bamberger-dom-ca-65-km/
END:VEVENT
END:VCALENDAR